BEGIN:VCALENDAR
VERSION:2.0
PRODID:-//glo - ECPv6.13.2.1//NONSGML v1.0//EN
CALSCALE:GREGORIAN
METHOD:PUBLISH
X-ORIGINAL-URL:https://www.gloplatform.org
X-WR-CALDESC:Events for glo
REFRESH-INTERVAL;VALUE=DURATION:PT1H
X-Robots-Tag:noindex
X-PUBLISHED-TTL:PT1H
BEGIN:VTIMEZONE
TZID:UTC
BEGIN:STANDARD
TZOFFSETFROM:+0000
TZOFFSETTO:+0000
TZNAME:UTC
DTSTART:20230101T000000
END:STANDARD
END:VTIMEZONE
BEGIN:VEVENT
DTSTART;TZID=UTC:20230521T100000
DTEND;TZID=UTC:20230521T123000
DTSTAMP:20260420T081048
CREATED:20230414T210546Z
LAST-MODIFIED:20230414T210546Z
UID:11353-1684663200-1684672200@www.gloplatform.org
SUMMARY:WeBop experimental youth Jazz initiative
DESCRIPTION:We are honored to welcome Jazz at Lincoln Center to glo\, and Atlanta. This freshly announced partnership between Jazz at Lincoln Center\, Atlanta Symphony Orchestra\, Gallery 992\, and glo platform–is perhaps the first of its kind to understand Jazz as an embodied exercise in problem-solving and as means to affect positive change in everyday life of youth\, and their caregivers. \nLaunch\n Sundays through May 21\, 10am-12:30am\nAtlanta Symphony Orchestra \nFree and public. \nA best word might be synergy—what might we do with our energies\, resources\, and talents? What if they could pull together and achieve a greater effect than the sum of their individual parts? WeBop experimental youth Jazz initiative’s launch in Atlanta is timely as we all continue to awaken to a new world. Its aim is simple: to bring intelligent\, creative movement artists and musicians together as collaborators and friends; to create a rhythmic community that cultivates children’s natural way of being\, to explore multi-sensory natures\, and the rhythm of our hearts\, all that is alive\, which is the mayfly metamorphosing on the surface of the river. \nThe first session of WeBop in Atlanta continues through May 21\, 2023.
URL:https://www.gloplatform.org/event/webop-experimental-youth-jazz-initiative-5/
END:VEVENT
END:VCALENDAR