BEGIN:VCALENDAR
VERSION:2.0
PRODID:-//glo - ECPv6.13.2.1//NONSGML v1.0//EN
CALSCALE:GREGORIAN
METHOD:PUBLISH
X-WR-CALNAME:glo
X-ORIGINAL-URL:https://www.gloplatform.org
X-WR-CALDESC:Events for glo
REFRESH-INTERVAL;VALUE=DURATION:PT1H
X-Robots-Tag:noindex
X-PUBLISHED-TTL:PT1H
BEGIN:VTIMEZONE
TZID:UTC
BEGIN:STANDARD
TZOFFSETFROM:+0000
TZOFFSETTO:+0000
TZNAME:UTC
DTSTART:20250101T000000
END:STANDARD
END:VTIMEZONE
BEGIN:VEVENT
DTSTART;TZID=UTC:20250202T140000
DTEND;TZID=UTC:20250202T160000
DTSTAMP:20260422T181859
CREATED:20250122T170429Z
LAST-MODIFIED:20250122T170429Z
UID:12096-1738504800-1738512000@www.gloplatform.org
SUMMARY:Rite Works ( Rite of Spring) at the Bass Center
DESCRIPTION:Please join us for our Ft. Worth\, Texas opening debut at the Bass Center from January 31 – February 2\, 2025. Maestro Robert Spano conducts the Ft. Worth Symphony Orchestra\, with choreography by lauri stallings for glo moving artists and community. \nRite Works ( Rite of Spring)\nFriday\, January 31\, 2025 at 7:30 PM\nSaturday\, February 1\, 2025 at 7:30 PM\nSunday\, February 2\, 2025 at 2pm \nBass Center\, Ft. Worth Texas\nTickets here. \nThe live art work is in what it is to be pulled into a ritual\, to Igor Stravinsky’s revolutionary score for orchestra. \n 
URL:https://www.gloplatform.org/event/rite-works-rite-of-spring-at-the-bass-center-3/
END:VEVENT
END:VCALENDAR