BEGIN:VCALENDAR
VERSION:2.0
PRODID:-//glo - ECPv6.13.2.1//NONSGML v1.0//EN
CALSCALE:GREGORIAN
METHOD:PUBLISH
X-WR-CALNAME:glo
X-ORIGINAL-URL:https://www.gloplatform.org
X-WR-CALDESC:Events for glo
REFRESH-INTERVAL;VALUE=DURATION:PT1H
X-Robots-Tag:noindex
X-PUBLISHED-TTL:PT1H
BEGIN:VTIMEZONE
TZID:UTC
BEGIN:STANDARD
TZOFFSETFROM:+0000
TZOFFSETTO:+0000
TZNAME:UTC
DTSTART:20250101T000000
END:STANDARD
END:VTIMEZONE
BEGIN:VEVENT
DTSTART;TZID=UTC:20250307T183000
DTEND;TZID=UTC:20250307T200000
DTSTAMP:20260423T071339
CREATED:20250219T171603Z
LAST-MODIFIED:20250219T171603Z
UID:12154-1741372200-1741377600@www.gloplatform.org
SUMMARY:Making Kin in the shell of Historic St. Mark
DESCRIPTION:Making Kin is made from an alchemy of bodies\, voices\, plants\, and live sound to conjure worlds that are\, like ourselves\, alive and forever becoming. The public art work is an invitation to raise questions about the complexities and opportunities of an earthly site-specificity using sculptural performance and the live moment to map our social and bodily reality as a radical unfolding world.  \nLive Art activations\nThursday\, March 6 at 6:30PM\, just before sunset\nFriday\, March 7 at 6:30PM\, just before sunset \nHistoric St. Mark\n491 Cameron Madison Alexander\nAtlanta\, GA 30318 \nFree and public to all. \nNamed for Donna Haraway’s 2016 book Making Kin in the Chthulucene\, earth (chthulu) new kind (cene) is the act of not being able to think of ourselves as disconnected from the rest of life on earth. Also referred to as staying with the trouble (as used by civil rights leader John Lewis)\, this theory envelops the age that’s defined by a future world based on othering and belonging. Making Kin is led by East Point vocalist Monique Osorio\, Palmetto – based social practice choreographer lauri stallings\, and West End – based musician Kebbi Williams. \nNo reservations required.
URL:https://www.gloplatform.org/event/making-kin-in-the-shell-of-historic-st-mark/
END:VEVENT
END:VCALENDAR