BEGIN:VCALENDAR
VERSION:2.0
PRODID:-//glo - ECPv6.13.2.1//NONSGML v1.0//EN
CALSCALE:GREGORIAN
METHOD:PUBLISH
X-WR-CALNAME:glo
X-ORIGINAL-URL:https://www.gloplatform.org
X-WR-CALDESC:Events for glo
REFRESH-INTERVAL;VALUE=DURATION:PT1H
X-Robots-Tag:noindex
X-PUBLISHED-TTL:PT1H
BEGIN:VTIMEZONE
TZID:UTC
BEGIN:STANDARD
TZOFFSETFROM:+0000
TZOFFSETTO:+0000
TZNAME:UTC
DTSTART:20260101T000000
END:STANDARD
END:VTIMEZONE
BEGIN:VEVENT
DTSTART;TZID=UTC:20260419T110000
DTEND;TZID=UTC:20260419T140000
DTSTAMP:20260419T123806
CREATED:20260417T170909Z
LAST-MODIFIED:20260417T170909Z
UID:12396-1776596400-1776607200@www.gloplatform.org
SUMMARY:Community Sowing: The Blooming City
DESCRIPTION:We’re delighted to have you with us this Sunday\, 11 am – 2pm\, for Community Sowing activities in Historic Downtown Palmetto. We meet at 503 Toombs Street\, and all wildflower plots are within a short walking distance. We look forward to seeing you very soon! \nQuestions? info@gloatl.org
URL:https://www.gloplatform.org/event/community-sowing-the-blooming-city-3/
END:VEVENT
END:VCALENDAR