BEGIN:VCALENDAR
VERSION:2.0
PRODID:-//glo - ECPv6.13.2.1//NONSGML v1.0//EN
CALSCALE:GREGORIAN
METHOD:PUBLISH
X-WR-CALNAME:glo
X-ORIGINAL-URL:https://www.gloplatform.org
X-WR-CALDESC:Events for glo
REFRESH-INTERVAL;VALUE=DURATION:PT1H
X-Robots-Tag:noindex
X-PUBLISHED-TTL:PT1H
BEGIN:VTIMEZONE
TZID:UTC
BEGIN:STANDARD
TZOFFSETFROM:+0000
TZOFFSETTO:+0000
TZNAME:UTC
DTSTART:20260101T000000
END:STANDARD
END:VTIMEZONE
BEGIN:VEVENT
DTSTART;TZID=UTC:20260611T100000
DTEND;TZID=UTC:20260618T150000
DTSTAMP:20260422T193108
CREATED:20260417T171432Z
LAST-MODIFIED:20260417T171432Z
UID:12400-1781172000-1781794800@www.gloplatform.org
SUMMARY:Creation process
DESCRIPTION:City Waltz\, Holy Waltz creation process #2. \n  \n 
URL:https://www.gloplatform.org/event/creation-process/
END:VEVENT
END:VCALENDAR